Package: ProtGenerics Version: 1.39.2 Command: /home/biocbuild/R/R/bin/R CMD build --keep-empty-dirs --no-resave-data ProtGenerics StartedAt: 2025-01-29 01:24:01 -0000 (Wed, 29 Jan 2025) EndedAt: 2025-01-29 01:24:02 -0000 (Wed, 29 Jan 2025) EllapsedTime: 1.0 seconds RetCode: 0 Status: OK PackageFile: ProtGenerics_1.39.2.tar.gz PackageFileSize: 10.89 KiB