Package: ProtGenerics Version: 1.39.2 Command: /home/biocbuild/R/R/bin/R CMD INSTALL ProtGenerics StartedAt: 2025-01-29 19:33:33 -0000 (Wed, 29 Jan 2025) EndedAt: 2025-01-29 19:34:05 -0000 (Wed, 29 Jan 2025) EllapsedTime: 31.7 seconds RetCode: 0 Status: OK