Package: ProtGenerics Version: 1.39.2 Command: rm -rf ProtGenerics.buildbin-libdir && mkdir ProtGenerics.buildbin-libdir && /Users/biocbuild/BBS/utils/build-universal.sh ProtGenerics_1.39.2.tar.gz /Library/Frameworks/R.framework/Resources/bin/R ProtGenerics.buildbin-libdir StartedAt: 2025-02-10 01:09:30 -0500 (Mon, 10 Feb 2025) EndedAt: 2025-02-10 01:09:38 -0500 (Mon, 10 Feb 2025) EllapsedTime: 8.1 seconds RetCode: 0 Status: OK PackageFile: ProtGenerics_1.39.2.tgz PackageFileSize: 246.5 KiB