Package: ProtGenerics Version: 1.39.2 Command: /Library/Frameworks/R.framework/Resources/bin/R CMD check --install=check:ProtGenerics.install-out.txt --library=/Library/Frameworks/R.framework/Resources/library --no-vignettes --timings ProtGenerics_1.39.2.tar.gz StartedAt: 2025-02-09 22:50:30 -0500 (Sun, 09 Feb 2025) EndedAt: 2025-02-09 22:50:59 -0500 (Sun, 09 Feb 2025) EllapsedTime: 28.7 seconds RetCode: 0 Status: OK CheckDir: ProtGenerics.Rcheck Warnings: 0