Package: ProtGenerics Version: 1.39.2 Command: /home/biocbuild/bbs-3.21-bioc/R/bin/R CMD check --install=check:ProtGenerics.install-out.txt --library=/home/biocbuild/bbs-3.21-bioc/R/site-library --timings ProtGenerics_1.39.2.tar.gz StartedAt: 2025-02-05 01:39:32 -0500 (Wed, 05 Feb 2025) EndedAt: 2025-02-05 01:39:51 -0500 (Wed, 05 Feb 2025) EllapsedTime: 19.0 seconds RetCode: 0 Status: OK CheckDir: ProtGenerics.Rcheck Warnings: 0