Package: ProtGenerics Version: 1.39.2 Command: /home/biocbuild/bbs-3.21-bioc/R/bin/R CMD INSTALL ProtGenerics StartedAt: 2025-02-09 15:03:13 -0500 (Sun, 09 Feb 2025) EndedAt: 2025-02-09 15:03:27 -0500 (Sun, 09 Feb 2025) EllapsedTime: 14.4 seconds RetCode: 0 Status: OK