Package: ProtGenerics Version: 1.39.2 Command: chmod a+r ProtGenerics -R && E:\biocbuild\bbs-3.21-bioc\R\bin\R.exe CMD build --keep-empty-dirs --no-resave-data ProtGenerics StartedAt: 2025-02-04 20:56:32 -0500 (Tue, 04 Feb 2025) EndedAt: 2025-02-04 20:56:34 -0500 (Tue, 04 Feb 2025) EllapsedTime: 2.3 seconds RetCode: 0 Status: OK PackageFile: ProtGenerics_1.39.2.tar.gz PackageFileSize: 10.9 KiB