Package: ProtGenerics Version: 1.39.2 Command: E:\biocbuild\bbs-3.21-bioc\R\bin\R.exe CMD INSTALL ProtGenerics StartedAt: 2025-02-04 15:21:15 -0500 (Tue, 04 Feb 2025) EndedAt: 2025-02-04 15:23:52 -0500 (Tue, 04 Feb 2025) EllapsedTime: 157.6 seconds RetCode: 0 Status: OK