Package: ProteoDisco Version: 1.13.0 Command: rm -rf ProteoDisco.buildbin-libdir && mkdir ProteoDisco.buildbin-libdir && /Users/biocbuild/BBS/utils/build-universal.sh ProteoDisco_1.13.0.tar.gz /Library/Frameworks/R.framework/Resources/bin/R ProteoDisco.buildbin-libdir StartedAt: 2025-02-05 00:55:30 -0500 (Wed, 05 Feb 2025) EndedAt: 2025-02-05 00:56:43 -0500 (Wed, 05 Feb 2025) EllapsedTime: 73.0 seconds RetCode: 0 Status: OK PackageFile: ProteoDisco_1.13.0.tgz PackageFileSize: 903.3 KiB