Package: ProteoDisco Version: 1.13.0 Command: /Library/Frameworks/R.framework/Resources/bin/R CMD check --install=check:ProteoDisco.install-out.txt --library=/Library/Frameworks/R.framework/Resources/library --no-vignettes --timings ProteoDisco_1.13.0.tar.gz StartedAt: 2025-02-09 22:50:13 -0500 (Sun, 09 Feb 2025) EndedAt: 2025-02-09 22:59:17 -0500 (Sun, 09 Feb 2025) EllapsedTime: 543.8 seconds RetCode: 0 Status: WARNINGS CheckDir: ProteoDisco.Rcheck Warnings: 2