Package: ProteoDisco Version: 1.13.0 Command: /Library/Frameworks/R.framework/Resources/bin/R CMD INSTALL ProteoDisco StartedAt: 2025-02-09 15:21:37 -0500 (Sun, 09 Feb 2025) EndedAt: 2025-02-09 15:22:49 -0500 (Sun, 09 Feb 2025) EllapsedTime: 71.7 seconds RetCode: 0 Status: OK