Package: ProteoDisco Version: 1.13.0 Command: E:\biocbuild\bbs-3.21-bioc\R\bin\R.exe CMD INSTALL ProteoDisco StartedAt: 2025-02-09 16:41:29 -0500 (Sun, 09 Feb 2025) EndedAt: 2025-02-09 16:42:45 -0500 (Sun, 09 Feb 2025) EllapsedTime: 75.8 seconds RetCode: 0 Status: OK