Package: ProteoMM Version: 1.25.0 Command: /home/biocbuild/R/R/bin/R CMD check --install=check:ProteoMM.install-out.txt --library=/home/biocbuild/R/R/site-library --no-vignettes --timings ProteoMM_1.25.0.tar.gz StartedAt: 2025-01-28 14:07:41 -0000 (Tue, 28 Jan 2025) EndedAt: 2025-01-28 14:10:14 -0000 (Tue, 28 Jan 2025) EllapsedTime: 153.1 seconds RetCode: 0 Status: OK CheckDir: ProteoMM.Rcheck Warnings: 0