Package: ProteoMM Version: 1.25.0 Command: /home/biocbuild/R/R/bin/R CMD INSTALL ProteoMM StartedAt: 2025-01-29 20:01:57 -0000 (Wed, 29 Jan 2025) EndedAt: 2025-01-29 20:02:04 -0000 (Wed, 29 Jan 2025) EllapsedTime: 7.1 seconds RetCode: 0 Status: OK