Package: ProteoMM Version: 1.25.0 Command: rm -rf ProteoMM.buildbin-libdir && mkdir ProteoMM.buildbin-libdir && /Users/biocbuild/BBS/utils/build-universal.sh ProteoMM_1.25.0.tar.gz /Library/Frameworks/R.framework/Resources/bin/R ProteoMM.buildbin-libdir StartedAt: 2025-02-10 01:09:26 -0500 (Mon, 10 Feb 2025) EndedAt: 2025-02-10 01:09:36 -0500 (Mon, 10 Feb 2025) EllapsedTime: 10.3 seconds RetCode: 0 Status: OK PackageFile: ProteoMM_1.25.0.tgz PackageFileSize: 628.8 KiB