Package: ProteoMM Version: 1.25.0 Command: /Library/Frameworks/R.framework/Resources/bin/R CMD check --install=check:ProteoMM.install-out.txt --library=/Library/Frameworks/R.framework/Resources/library --no-vignettes --timings ProteoMM_1.25.0.tar.gz StartedAt: 2025-02-09 22:50:16 -0500 (Sun, 09 Feb 2025) EndedAt: 2025-02-09 22:52:26 -0500 (Sun, 09 Feb 2025) EllapsedTime: 129.6 seconds RetCode: 0 Status: OK CheckDir: ProteoMM.Rcheck Warnings: 0