Package: ProteoMM Version: 1.25.0 Command: /Library/Frameworks/R.framework/Resources/bin/R CMD INSTALL ProteoMM StartedAt: 2025-02-03 15:26:47 -0500 (Mon, 03 Feb 2025) EndedAt: 2025-02-03 15:26:55 -0500 (Mon, 03 Feb 2025) EllapsedTime: 7.9 seconds RetCode: 0 Status: OK