Package: ProteoMM Version: 1.25.0 Command: /home/biocbuild/bbs-3.21-bioc/R/bin/R CMD INSTALL ProteoMM StartedAt: 2025-02-09 15:25:37 -0500 (Sun, 09 Feb 2025) EndedAt: 2025-02-09 15:25:42 -0500 (Sun, 09 Feb 2025) EllapsedTime: 5.2 seconds RetCode: 0 Status: OK