Package: ProteoMM Version: 1.25.0 Command: rm -rf ProteoMM.buildbin-libdir && mkdir ProteoMM.buildbin-libdir && E:\biocbuild\bbs-3.21-bioc\R\bin\R.exe CMD INSTALL --build --library=ProteoMM.buildbin-libdir ProteoMM_1.25.0.tar.gz StartedAt: 2025-02-10 08:25:42 -0500 (Mon, 10 Feb 2025) EndedAt: 2025-02-10 08:26:18 -0500 (Mon, 10 Feb 2025) EllapsedTime: 35.9 seconds RetCode: 0 Status: OK PackageFile: ProteoMM_1.25.0.zip PackageFileSize: 332.9 KiB