Package: Pviz Version: 1.41.0 Command: rm -rf Pviz.buildbin-libdir && mkdir Pviz.buildbin-libdir && /Users/biocbuild/BBS/utils/build-universal.sh Pviz_1.41.0.tar.gz /Library/Frameworks/R.framework/Resources/bin/R Pviz.buildbin-libdir StartedAt: 2025-02-09 22:25:58 -0500 (Sun, 09 Feb 2025) EndedAt: 2025-02-09 22:26:36 -0500 (Sun, 09 Feb 2025) EllapsedTime: 37.8 seconds RetCode: 0 Status: OK PackageFile: Pviz_1.41.0.tgz PackageFileSize: 671.5 KiB