Package: Pviz Version: 1.41.0 Command: /Library/Frameworks/R.framework/Resources/bin/R CMD INSTALL Pviz StartedAt: 2025-02-09 15:17:42 -0500 (Sun, 09 Feb 2025) EndedAt: 2025-02-09 15:18:15 -0500 (Sun, 09 Feb 2025) EllapsedTime: 33.5 seconds RetCode: 0 Status: OK