Package: Pviz Version: 1.41.0 Command: /Library/Frameworks/R.framework/Resources/bin/R CMD check --install=check:Pviz.install-out.txt --library=/Library/Frameworks/R.framework/Resources/library --no-vignettes --timings Pviz_1.41.0.tar.gz StartedAt: 2025-02-12 22:36:59 -0500 (Wed, 12 Feb 2025) EndedAt: 2025-02-12 22:43:04 -0500 (Wed, 12 Feb 2025) EllapsedTime: 364.7 seconds RetCode: 0 Status: WARNINGS CheckDir: Pviz.Rcheck Warnings: 1