Package: Pviz Version: 1.41.0 Command: /Library/Frameworks/R.framework/Resources/bin/R CMD INSTALL Pviz StartedAt: 2025-02-09 15:29:33 -0500 (Sun, 09 Feb 2025) EndedAt: 2025-02-09 15:31:20 -0500 (Sun, 09 Feb 2025) EllapsedTime: 106.9 seconds RetCode: 0 Status: OK