Package: Pviz Version: 1.41.0 Command: rm -rf Pviz.buildbin-libdir && mkdir Pviz.buildbin-libdir && E:\biocbuild\bbs-3.21-bioc\R\bin\R.exe CMD INSTALL --build --library=Pviz.buildbin-libdir Pviz_1.41.0.tar.gz StartedAt: 2025-02-10 08:26:08 -0500 (Mon, 10 Feb 2025) EndedAt: 2025-02-10 08:27:44 -0500 (Mon, 10 Feb 2025) EllapsedTime: 95.2 seconds RetCode: 0 Status: OK PackageFile: Pviz_1.41.0.zip PackageFileSize: 676.1 KiB