Package: Pviz Version: 1.41.0 Command: E:\biocbuild\bbs-3.21-bioc\R\bin\R.exe CMD check --no-multiarch --install=check:Pviz.install-out.txt --library=E:\biocbuild\bbs-3.21-bioc\R\library --no-vignettes --timings Pviz_1.41.0.tar.gz StartedAt: 2025-02-10 04:21:07 -0500 (Mon, 10 Feb 2025) EndedAt: 2025-02-10 04:27:19 -0500 (Mon, 10 Feb 2025) EllapsedTime: 372.2 seconds RetCode: 0 Status: WARNINGS CheckDir: Pviz.Rcheck Warnings: 1