Package: Pviz Version: 1.41.0 Command: E:\biocbuild\bbs-3.21-bioc\R\bin\R.exe CMD INSTALL Pviz StartedAt: 2025-02-09 16:45:49 -0500 (Sun, 09 Feb 2025) EndedAt: 2025-02-09 16:47:28 -0500 (Sun, 09 Feb 2025) EllapsedTime: 99.2 seconds RetCode: 0 Status: OK