Package: QFeatures Version: 1.17.2 Command: rm -rf QFeatures.buildbin-libdir && mkdir QFeatures.buildbin-libdir && /Users/biocbuild/BBS/utils/build-universal.sh QFeatures_1.17.2.tar.gz /Library/Frameworks/R.framework/Resources/bin/R QFeatures.buildbin-libdir StartedAt: 2025-02-09 22:26:09 -0500 (Sun, 09 Feb 2025) EndedAt: 2025-02-09 22:26:22 -0500 (Sun, 09 Feb 2025) EllapsedTime: 13.3 seconds RetCode: 0 Status: OK PackageFile: QFeatures_1.17.2.tgz PackageFileSize: 4.904 MiB