Package: QFeatures Version: 1.17.2 Command: /Library/Frameworks/R.framework/Resources/bin/R CMD check --install=check:QFeatures.install-out.txt --library=/Library/Frameworks/R.framework/Resources/library --no-vignettes --timings QFeatures_1.17.2.tar.gz StartedAt: 2025-02-09 20:48:00 -0500 (Sun, 09 Feb 2025) EndedAt: 2025-02-09 20:51:03 -0500 (Sun, 09 Feb 2025) EllapsedTime: 183.2 seconds RetCode: 0 Status: OK CheckDir: QFeatures.Rcheck Warnings: 0