Package: QFeatures Version: 1.17.2 Command: rm -rf QFeatures.buildbin-libdir && mkdir QFeatures.buildbin-libdir && /Users/biocbuild/BBS/utils/build-universal.sh QFeatures_1.17.2.tar.gz /Library/Frameworks/R.framework/Resources/bin/R QFeatures.buildbin-libdir StartedAt: 2025-02-10 01:09:41 -0500 (Mon, 10 Feb 2025) EndedAt: 2025-02-10 01:10:27 -0500 (Mon, 10 Feb 2025) EllapsedTime: 46.3 seconds RetCode: 0 Status: OK PackageFile: QFeatures_1.17.2.tgz PackageFileSize: 4.9 MiB