Package: QFeatures Version: 1.17.2 Command: /Library/Frameworks/R.framework/Resources/bin/R CMD build --keep-empty-dirs --no-resave-data QFeatures StartedAt: 2025-02-12 17:55:38 -0500 (Wed, 12 Feb 2025) EndedAt: 2025-02-12 17:57:22 -0500 (Wed, 12 Feb 2025) EllapsedTime: 104.0 seconds RetCode: 0 Status: OK PackageFile: QFeatures_1.17.2.tar.gz PackageFileSize: 4.969 MiB