Package: QFeatures Version: 1.17.2 Command: /Library/Frameworks/R.framework/Resources/bin/R CMD INSTALL QFeatures StartedAt: 2025-02-09 15:26:12 -0500 (Sun, 09 Feb 2025) EndedAt: 2025-02-09 15:26:54 -0500 (Sun, 09 Feb 2025) EllapsedTime: 41.5 seconds RetCode: 0 Status: OK