Package: QFeatures Version: 1.17.2 Command: /home/biocbuild/bbs-3.21-bioc/R/bin/R CMD check --install=check:QFeatures.install-out.txt --library=/home/biocbuild/bbs-3.21-bioc/R/site-library --timings QFeatures_1.17.2.tar.gz StartedAt: 2025-02-10 01:34:42 -0500 (Mon, 10 Feb 2025) EndedAt: 2025-02-10 01:43:32 -0500 (Mon, 10 Feb 2025) EllapsedTime: 530.8 seconds RetCode: 0 Status: OK CheckDir: QFeatures.Rcheck Warnings: 0