Package: QFeatures Version: 1.17.2 Command: /home/biocbuild/bbs-3.21-bioc/R/bin/R CMD INSTALL QFeatures StartedAt: 2025-02-09 15:33:43 -0500 (Sun, 09 Feb 2025) EndedAt: 2025-02-09 15:34:13 -0500 (Sun, 09 Feb 2025) EllapsedTime: 30.4 seconds RetCode: 0 Status: OK