Package: QFeatures Version: 1.17.2 Command: E:\biocbuild\bbs-3.21-bioc\R\bin\R.exe CMD check --no-multiarch --install=check:QFeatures.install-out.txt --library=E:\biocbuild\bbs-3.21-bioc\R\library --no-vignettes --timings QFeatures_1.17.2.tar.gz StartedAt: 2025-02-13 04:31:06 -0500 (Thu, 13 Feb 2025) EndedAt: 2025-02-13 04:41:59 -0500 (Thu, 13 Feb 2025) EllapsedTime: 653.0 seconds RetCode: 0 Status: OK CheckDir: QFeatures.Rcheck Warnings: 0