Package: QSutils Version: 1.25.0 Command: /Library/Frameworks/R.framework/Resources/bin/R CMD build --keep-empty-dirs --no-resave-data QSutils StartedAt: 2025-02-09 17:19:10 -0500 (Sun, 09 Feb 2025) EndedAt: 2025-02-09 17:19:50 -0500 (Sun, 09 Feb 2025) EllapsedTime: 40.5 seconds RetCode: 0 Status: OK PackageFile: QSutils_1.25.0.tar.gz PackageFileSize: 1.319 MiB