Package: QSutils Version: 1.25.0 Command: /Library/Frameworks/R.framework/Resources/bin/R CMD INSTALL QSutils StartedAt: 2025-02-04 15:13:13 -0500 (Tue, 04 Feb 2025) EndedAt: 2025-02-04 15:13:18 -0500 (Tue, 04 Feb 2025) EllapsedTime: 5.3 seconds RetCode: 0 Status: OK