Package: QSutils Version: 1.25.0 Command: /home/biocbuild/R/R/bin/R CMD build --keep-empty-dirs --no-resave-data QSutils StartedAt: 2025-01-29 01:26:45 -0000 (Wed, 29 Jan 2025) EndedAt: 2025-01-29 01:29:01 -0000 (Wed, 29 Jan 2025) EllapsedTime: 136.1 seconds RetCode: 0 Status: OK PackageFile: QSutils_1.25.0.tar.gz PackageFileSize: 1.386 MiB