Package: QSutils Version: 1.25.0 Command: /home/biocbuild/bbs-3.21-bioc/R/bin/R CMD check --install=check:QSutils.install-out.txt --library=/home/biocbuild/bbs-3.21-bioc/R/site-library --timings QSutils_1.25.0.tar.gz StartedAt: 2025-02-05 01:43:10 -0500 (Wed, 05 Feb 2025) EndedAt: 2025-02-05 01:45:20 -0500 (Wed, 05 Feb 2025) EllapsedTime: 130.1 seconds RetCode: 0 Status: OK CheckDir: QSutils.Rcheck Warnings: 0