Package: QSutils Version: 1.25.0 Command: rm -rf QSutils.buildbin-libdir && mkdir QSutils.buildbin-libdir && E:\biocbuild\bbs-3.21-bioc\R\bin\R.exe CMD INSTALL --build --library=QSutils.buildbin-libdir QSutils_1.25.0.tar.gz StartedAt: 2025-02-05 08:38:58 -0500 (Wed, 05 Feb 2025) EndedAt: 2025-02-05 08:39:23 -0500 (Wed, 05 Feb 2025) EllapsedTime: 25.0 seconds RetCode: 0 Status: OK PackageFile: QSutils_1.25.0.zip PackageFileSize: 1.22 MiB