Package: QSutils Version: 1.25.0 Command: chmod a+r QSutils -R && E:\biocbuild\bbs-3.21-bioc\R\bin\R.exe CMD build --keep-empty-dirs --no-resave-data QSutils StartedAt: 2025-02-04 20:58:55 -0500 (Tue, 04 Feb 2025) EndedAt: 2025-02-04 21:02:23 -0500 (Tue, 04 Feb 2025) EllapsedTime: 208.3 seconds RetCode: 0 Status: OK PackageFile: QSutils_1.25.0.tar.gz PackageFileSize: 1.101 MiB