Package: QuartPAC Version: 1.39.0 Command: /Library/Frameworks/R.framework/Resources/bin/R CMD INSTALL QuartPAC StartedAt: 2025-02-09 15:22:33 -0500 (Sun, 09 Feb 2025) EndedAt: 2025-02-09 15:22:39 -0500 (Sun, 09 Feb 2025) EllapsedTime: 5.8 seconds RetCode: 0 Status: OK