Package: QuartPAC Version: 1.39.0 Command: /home/biocbuild/R/R/bin/R CMD build --keep-empty-dirs --no-resave-data QuartPAC StartedAt: 2025-01-29 01:27:22 -0000 (Wed, 29 Jan 2025) EndedAt: 2025-01-29 01:28:51 -0000 (Wed, 29 Jan 2025) EllapsedTime: 89.0 seconds RetCode: 0 Status: OK PackageFile: QuartPAC_1.39.0.tar.gz PackageFileSize: 899.3 KiB