Package: QuartPAC Version: 1.39.0 Command: rm -rf QuartPAC.buildbin-libdir && mkdir QuartPAC.buildbin-libdir && /Users/biocbuild/BBS/utils/build-universal.sh QuartPAC_1.39.0.tar.gz /Library/Frameworks/R.framework/Resources/bin/R QuartPAC.buildbin-libdir StartedAt: 2025-02-13 00:52:28 -0500 (Thu, 13 Feb 2025) EndedAt: 2025-02-13 00:52:51 -0500 (Thu, 13 Feb 2025) EllapsedTime: 23.1 seconds RetCode: 0 Status: OK PackageFile: QuartPAC_1.39.0.tgz PackageFileSize: 645.4 KiB