Package: QuartPAC Version: 1.39.0 Command: /home/biocbuild/bbs-3.21-bioc/R/bin/R CMD build --keep-empty-dirs --no-resave-data QuartPAC StartedAt: 2025-02-09 18:47:12 -0500 (Sun, 09 Feb 2025) EndedAt: 2025-02-09 18:48:08 -0500 (Sun, 09 Feb 2025) EllapsedTime: 56.1 seconds RetCode: 0 Status: OK PackageFile: QuartPAC_1.39.0.tar.gz PackageFileSize: 907.6 KiB