Package: QuasR Version: 1.47.2 Maintainer: Michael Stadler MaintainerEmail: michael.stadler at fmi.ch git_url: https://git.bioconductor.org/packages/QuasR git_branch: devel git_last_commit: 108b963 git_last_commit_date: 2025-01-06 07:03:40 -0500 (Mon, 06 Jan 2025)