Package: QuasR Version: 1.47.2 Command: /home/biocbuild/R/R/bin/R CMD build --keep-empty-dirs --no-resave-data QuasR StartedAt: 2025-01-29 01:27:29 -0000 (Wed, 29 Jan 2025) EndedAt: 2025-01-29 01:33:26 -0000 (Wed, 29 Jan 2025) EllapsedTime: 357.2 seconds RetCode: 0 Status: OK PackageFile: QuasR_1.47.2.tar.gz PackageFileSize: 1.889 MiB