Package: QuasR Version: 1.47.2 Command: /home/biocbuild/R/R/bin/R CMD check --install=check:QuasR.install-out.txt --library=/home/biocbuild/R/R/site-library --no-vignettes --timings QuasR_1.47.2.tar.gz StartedAt: 2025-01-28 14:14:15 -0000 (Tue, 28 Jan 2025) EndedAt: 2025-01-28 14:27:40 -0000 (Tue, 28 Jan 2025) EllapsedTime: 804.1 seconds RetCode: 0 Status: WARNINGS CheckDir: QuasR.Rcheck Warnings: 6