Package: QuasR Version: 1.47.2 Command: /home/biocbuild/R/R/bin/R CMD INSTALL QuasR StartedAt: 2025-01-29 20:02:59 -0000 (Wed, 29 Jan 2025) EndedAt: 2025-01-29 20:04:32 -0000 (Wed, 29 Jan 2025) EllapsedTime: 93.5 seconds RetCode: 0 Status: OK