Package: QuasR Version: 1.47.2 Command: rm -rf QuasR.buildbin-libdir && mkdir QuasR.buildbin-libdir && /Users/biocbuild/BBS/utils/build-universal.sh QuasR_1.47.2.tar.gz /Library/Frameworks/R.framework/Resources/bin/R QuasR.buildbin-libdir StartedAt: 2025-02-13 00:52:28 -0500 (Thu, 13 Feb 2025) EndedAt: 2025-02-13 00:54:03 -0500 (Thu, 13 Feb 2025) EllapsedTime: 94.9 seconds RetCode: 0 Status: OK PackageFile: QuasR_1.47.2.tgz PackageFileSize: 3.451 MiB