Package: QuasR Version: 1.47.2 Command: /Library/Frameworks/R.framework/Resources/bin/R CMD check --install=check:QuasR.install-out.txt --library=/Library/Frameworks/R.framework/Resources/library --no-vignettes --timings QuasR_1.47.2.tar.gz StartedAt: 2025-02-09 22:54:46 -0500 (Sun, 09 Feb 2025) EndedAt: 2025-02-09 23:06:02 -0500 (Sun, 09 Feb 2025) EllapsedTime: 676.0 seconds RetCode: 0 Status: WARNINGS CheckDir: QuasR.Rcheck Warnings: 1